BEGIN:VCALENDAR
VERSION:2.0
PRODID:-//Transactional Law Clinics - ECPv6.15.0//NONSGML v1.0//EN
CALSCALE:GREGORIAN
METHOD:PUBLISH
X-ORIGINAL-URL:https://clinics.law.harvard.edu/tlc
X-WR-CALDESC:Events for Transactional Law Clinics
REFRESH-INTERVAL;VALUE=DURATION:PT1H
X-Robots-Tag:noindex
X-PUBLISHED-TTL:PT1H
BEGIN:VTIMEZONE
TZID:America/New_York
BEGIN:DAYLIGHT
TZOFFSETFROM:-0500
TZOFFSETTO:-0400
TZNAME:EDT
DTSTART:20250309T070000
END:DAYLIGHT
BEGIN:STANDARD
TZOFFSETFROM:-0400
TZOFFSETTO:-0500
TZNAME:EST
DTSTART:20251102T060000
END:STANDARD
BEGIN:DAYLIGHT
TZOFFSETFROM:-0500
TZOFFSETTO:-0400
TZNAME:EDT
DTSTART:20260308T070000
END:DAYLIGHT
BEGIN:STANDARD
TZOFFSETFROM:-0400
TZOFFSETTO:-0500
TZNAME:EST
DTSTART:20261101T060000
END:STANDARD
END:VTIMEZONE
BEGIN:VEVENT
DTSTART;TZID=America/New_York:20260302T130000
DTEND;TZID=America/New_York:20260302T143000
DTSTAMP:20260421T043848
CREATED:20260226T151201Z
LAST-MODIFIED:20260226T151201Z
UID:1867-1772456400-1772461800@clinics.law.harvard.edu
SUMMARY:Inside the Business of Live Music
DESCRIPTION:Inside the Business of Live Music: Matt Zingler\, Founder of Rolling Loud\, the World’s Largest Hip-Hop Festival\, and E11EVEN Miami\, the Global Benchmark for 24-Hour Music\n\n\nWhen: Monday\, March 2 at 1 – 2:30 OM\nWhere: 104 Mount Auburn St. 2R Cambridge\, MA 02138\nRegister here: https://hutchinscenter.fas.harvard.edu/event/inside-business-live-music-matt-zingler-founder-rolling-loud-worlds-largest-hip-hop-festival?occ_id=0\n\n\nHarvard Transactional Law Clinics is excited to host a contract law workshop as part of the conference organized by The Hutchins Center for African & African American Research and The Hip Hop Archive. Clinical students Segun Omole and Tatiana Poggi will be presenting “Contract Law Basics for Creatives\,” from formation and essential clause to remedies and practical tips tailored to the entertainment industry. The first 50 guests to RSVP will receive customer merch\, so be sure to register soon!\n\nPlease reach out to hari@fas.harvard.edu with any questions.
URL:https://clinics.law.harvard.edu/tlc/event/inside-the-business-of-live-music/
LOCATION:The Hutchins Center for African & African American Research and The Hip Hop Archive\, 104 Mount Auburn St. 2R\, Cambridge\, MA\, 02138
END:VEVENT
BEGIN:VEVENT
DTSTART;VALUE=DATE:20260122
DTEND;VALUE=DATE:20260123
DTSTAMP:20260421T043848
CREATED:20260114T212328Z
LAST-MODIFIED:20260114T212328Z
UID:1852-1769040000-1769126399@clinics.law.harvard.edu
SUMMARY:Lawyers Clearinghouse Nonprofit Incorporation Workshop
DESCRIPTION:Nonprofit Incorporation Workshop \nFounders of new nonprofits must attend the Lawyers Clearinghouse Nonprofit Incorporation Workshop\, offered six times each year by Zoom. The workshop includes an overview of the MA incorporation process and the application to the IRS for recognition of tax-exempt status\, as well as important guidance on how to remain tax-exempt\, and helpful reference materials. For more information and to register\, click on the date below for the workshop that you will attend: \nJanuary 22\, 2026 \nMarch 12\, 2026 \nMay 12\, 2026 \nJuly 14\, 2026
URL:https://clinics.law.harvard.edu/tlc/event/lawyers-clearinghouse-nonprofit-incorporation-workshop/
LOCATION:MA
END:VEVENT
BEGIN:VEVENT
DTSTART;TZID=America/New_York:20251020T150000
DTEND;TZID=America/New_York:20251020T163000
DTSTAMP:20260421T043848
CREATED:20250924T195056Z
LAST-MODIFIED:20250924T195056Z
UID:1815-1760972400-1760977800@clinics.law.harvard.edu
SUMMARY:IRS Resources Made Simple: A Guide for Small Business Owners
DESCRIPTION:By Boston Local Development Corporation & Internal Revenue Service\n\nJoin our webinar to learn about IRS tools and resources that help small businesses manage taxes\, payments\, and deadlines.\nMonday\, October 20\, 2025\,  3:00pm – 4:30pm\nPlatform: Virtual\nLink to register: https://www.eventbrite.com/e/irs-resources-made-simple-a-guide-for-small-business-owners-tickets\n\n\n\n\n\n\n\n  \nSeminario Sobre Impuestos Para Pequeñas Empresas (Taller virtual bilingüe) \n\nOfrecido por Boston Local Development Corporation e Internal Revenue Service\nParticipe en nuestro seminario virtual para aprender cómo utilizar las herramientas y recursos del IRS para ayudarle a manejar los impuestos de su empresa con facilidad.\nLunes 20 de octubre del 2025.  3:00pm – 4:30pm\nFormato: Virtual\n\n\nEnlace para registrarse: https://www.eventbrite.com/e/irs-resources-made-simple-a-guide-for-small-business-owners-tickets
URL:https://clinics.law.harvard.edu/tlc/event/irs-resources-made-simple-a-guide-for-small-business-owners/
LOCATION:MA
CATEGORIES:Webinar
END:VEVENT
END:VCALENDAR